BEGIN:VCALENDAR
VERSION:2.0
PRODID:-//&Ouml;sterreichisch-Schwedische Gesellschaft - ECPv6.15.20//NONSGML v1.0//EN
CALSCALE:GREGORIAN
METHOD:PUBLISH
X-ORIGINAL-URL:https://oesterreichschweden.at
X-WR-CALDESC:Veranstaltungen für &Ouml;sterreichisch-Schwedische Gesellschaft
REFRESH-INTERVAL;VALUE=DURATION:PT1H
X-Robots-Tag:noindex
X-PUBLISHED-TTL:PT1H
BEGIN:VTIMEZONE
TZID:Europe/Vienna
BEGIN:DAYLIGHT
TZOFFSETFROM:+0100
TZOFFSETTO:+0200
TZNAME:CEST
DTSTART:20240331T010000
END:DAYLIGHT
BEGIN:STANDARD
TZOFFSETFROM:+0200
TZOFFSETTO:+0100
TZNAME:CET
DTSTART:20241027T010000
END:STANDARD
BEGIN:DAYLIGHT
TZOFFSETFROM:+0100
TZOFFSETTO:+0200
TZNAME:CEST
DTSTART:20250330T010000
END:DAYLIGHT
BEGIN:STANDARD
TZOFFSETFROM:+0200
TZOFFSETTO:+0100
TZNAME:CET
DTSTART:20251026T010000
END:STANDARD
BEGIN:DAYLIGHT
TZOFFSETFROM:+0100
TZOFFSETTO:+0200
TZNAME:CEST
DTSTART:20260329T010000
END:DAYLIGHT
BEGIN:STANDARD
TZOFFSETFROM:+0200
TZOFFSETTO:+0100
TZNAME:CET
DTSTART:20261025T010000
END:STANDARD
END:VTIMEZONE
BEGIN:VEVENT
DTSTART;TZID=Europe/Vienna:20250320T183000
DTEND;TZID=Europe/Vienna:20250320T200000
DTSTAMP:20260421T122609
CREATED:20250127T141224Z
LAST-MODIFIED:20250205T120415Z
UID:10000211-1742495400-1742500800@oesterreichschweden.at
SUMMARY:Generalversammlung
DESCRIPTION:Tagesordnung\n1. Eröffnung der Generalversammlung\n2. Bericht über die vergangene Funktionsperiode\n3. Bericht der Kassierin und Bericht der RechnungsprüferInnen\n4. Entlastung des Vorstandes und des Kassiers\n5. Wahl des Vorstandes für die kommende Periode\n6. Wahl der RechnungsprüferInnen für die kommende Periode\n7. Beratung über etwaige schriftliche Anträge der Mitglieder zur Tagesordnung\n8. Allfälliges\n9. Ende der Generalversammlung
URL:https://oesterreichschweden.at/event/generalversammlung/
LOCATION:Futterboden\, Flachgasse 5\, Wien\, 1140\, Austria
CATEGORIES:Alle ÖSG Veranstaltungen,ÖSG Veranstaltung
ATTACH;FMTTYPE=image/jpeg:https://oesterreichschweden.at/wp-content/uploads/2025/01/GV_1280.jpg
ORGANIZER;CN="%C3%96SG":MAILTO:kontakt@oesterreichschweden.at
END:VEVENT
END:VCALENDAR