BEGIN:VCALENDAR
VERSION:2.0
PRODID:-//&Ouml;sterreichisch-Schwedische Gesellschaft - ECPv6.15.20//NONSGML v1.0//EN
CALSCALE:GREGORIAN
METHOD:PUBLISH
X-WR-CALNAME:&Ouml;sterreichisch-Schwedische Gesellschaft
X-ORIGINAL-URL:https://oesterreichschweden.at
X-WR-CALDESC:Veranstaltungen für &Ouml;sterreichisch-Schwedische Gesellschaft
REFRESH-INTERVAL;VALUE=DURATION:PT1H
X-Robots-Tag:noindex
X-PUBLISHED-TTL:PT1H
BEGIN:VTIMEZONE
TZID:Europe/Vienna
BEGIN:DAYLIGHT
TZOFFSETFROM:+0100
TZOFFSETTO:+0200
TZNAME:CEST
DTSTART:20250330T010000
END:DAYLIGHT
BEGIN:STANDARD
TZOFFSETFROM:+0200
TZOFFSETTO:+0100
TZNAME:CET
DTSTART:20251026T010000
END:STANDARD
BEGIN:DAYLIGHT
TZOFFSETFROM:+0100
TZOFFSETTO:+0200
TZNAME:CEST
DTSTART:20260329T010000
END:DAYLIGHT
BEGIN:STANDARD
TZOFFSETFROM:+0200
TZOFFSETTO:+0100
TZNAME:CET
DTSTART:20261025T010000
END:STANDARD
BEGIN:DAYLIGHT
TZOFFSETFROM:+0100
TZOFFSETTO:+0200
TZNAME:CEST
DTSTART:20270328T010000
END:DAYLIGHT
BEGIN:STANDARD
TZOFFSETFROM:+0200
TZOFFSETTO:+0100
TZNAME:CET
DTSTART:20271031T010000
END:STANDARD
END:VTIMEZONE
BEGIN:VEVENT
DTSTART;TZID=Europe/Vienna:20260912T150000
DTEND;TZID=Europe/Vienna:20260912T163000
DTSTAMP:20260421T135700
CREATED:20260325T172747Z
LAST-MODIFIED:20260325T172923Z
UID:10000542-1789225200-1789230600@oesterreichschweden.at
SUMMARY:Hermannshöhle Spezialführung
DESCRIPTION:Die Hermannshöhle bei Kirchberg am Wechsel ist die größte Tropfsteinhöhle und das wichtigstes Fledermaus-Winterquartier Niederösterreichs. Der Höhlenbesuch ist ein Naturerlebnis in einer nahen\, jedoch so unbekannten Welt. \n\nTropfsteine\nFledermäuse\nGesteinsformationen\ngesunde keimfreie Luft\n\nAll das ist leicht auf guten\, elektrisch beleuchteten Wegen im Rahmen einer Führung zu besichtigen.\nUnser Generalsekretär Fritz als staatlich geprüfter Höhlenführer wird euch persönlich eine unvergessliche Führung bieten und zusätzlich in einen selten begangenen Höhlenteil (Kyrle) führen\, wo sehr wahrscheinlich sehr viele Fledermäuse auf uns warten. \nVom Parkplatz geht man ca. 5 Min. bis zum Höhleneingang. Dort wird man vom Höhlenführer empfangen. Die Führung selbst dauert inkl. Rückkehr bis zum Höhleneingang ca. 1 Std. 30 Min. \nDie Anmeldung ist bis 11. September möglich! \n 
URL:https://oesterreichschweden.at/event/hermannshoehle-spezialfuehrung-2/
LOCATION:Hermannshöhle\, Ofenbach 56\, Kirchberg am Wechsel\, 2880
CATEGORIES:ÖSG Veranstaltung
ATTACH;FMTTYPE=image/jpeg:https://oesterreichschweden.at/wp-content/uploads/2025/03/hh_fled.jpg
ORGANIZER;CN="%C3%96SG":MAILTO:kontakt@oesterreichschweden.at
END:VEVENT
END:VCALENDAR